BEGIN:VCALENDAR
VERSION:2.0
PRODID:-//Compra en Medina - ECPv6.15.20//NONSGML v1.0//EN
CALSCALE:GREGORIAN
METHOD:PUBLISH
X-WR-CALNAME:Compra en Medina
X-ORIGINAL-URL:https://compraenmedina.es
X-WR-CALDESC:Eventos para Compra en Medina
REFRESH-INTERVAL;VALUE=DURATION:PT1H
X-Robots-Tag:noindex
X-PUBLISHED-TTL:PT1H
BEGIN:VTIMEZONE
TZID:UTC
BEGIN:STANDARD
TZOFFSETFROM:+0000
TZOFFSETTO:+0000
TZNAME:UTC
DTSTART:20230101T000000
END:STANDARD
END:VTIMEZONE
BEGIN:VEVENT
DTSTART;VALUE=DATE:20240919
DTEND;VALUE=DATE:20240923
DTSTAMP:20260422T014722
CREATED:20240501T094822Z
LAST-MODIFIED:20240504T152943Z
UID:229-1726704000-1727049599@compraenmedina.es
SUMMARY:Feria cofrade
DESCRIPTION:Rinde homenaje a la tradición religiosa en la Feria Cofrade. Disfruta de procesiones\, eventos religiosos y actividades culturales en honor a la fe y la devoción. \nXXXV Encuentro Nacional de Cofradías: \nFecha: Del 20 al 22 de septiembre de 2024. \nSede principal: El Auditorio Emiliano Allende en Medina del Campo. \nTema central: Reflexión compartida sobre el presente y futuro de los Encuentros y las Cofradías en la sociedad española. \nActividades: \nMesas de trabajo para compartir conclusiones. \nMomentos íntimos de la Semana Santa de Medina del Campo\, como el Rosario de Penitencia y el acompañamiento al Cristo de Santa Clara en su camino hacia el Castillo de la Mota. \nHomenaje al escultor Ricardo Flecha\, recientemente fallecido. \nCentro San Vicente Ferrer y otros patrimonios religiosos de Medina con jornadas de puertas abiertas y visitas guiadas1.
URL:https://compraenmedina.es/event/feria-cofrade/
ATTACH;FMTTYPE=image/jpeg:https://compraenmedina.es/wp-content/uploads/2024/05/cofrade-1-1.jpg
END:VEVENT
BEGIN:VEVENT
DTSTART;VALUE=DATE:20241004
DTEND;VALUE=DATE:20241007
DTSTAMP:20260422T014722
CREATED:20240501T095008Z
LAST-MODIFIED:20240504T153041Z
UID:231-1728000000-1728259199@compraenmedina.es
SUMMARY:Feria de la cerveza
DESCRIPTION:Para los amantes de la cerveza\, la Feria de la Cerveza es el lugar perfecto para disfrutar de una amplia selección de cervezas artesanales y tradicionales.\, ven y brinda en un ambiente festivo y lleno de sabor. ¡Salud!
URL:https://compraenmedina.es/event/feria-de-la-cerveza/
ATTACH;FMTTYPE=image/jpeg:https://compraenmedina.es/wp-content/uploads/2024/05/cerveza.jpg
END:VEVENT
END:VCALENDAR