BEGIN:VCALENDAR
VERSION:2.0
PRODID:-//Compra en Medina - ECPv6.15.20//NONSGML v1.0//EN
CALSCALE:GREGORIAN
METHOD:PUBLISH
X-ORIGINAL-URL:https://compraenmedina.es
X-WR-CALDESC:Eventos para Compra en Medina
REFRESH-INTERVAL;VALUE=DURATION:PT1H
X-Robots-Tag:noindex
X-PUBLISHED-TTL:PT1H
BEGIN:VTIMEZONE
TZID:UTC
BEGIN:STANDARD
TZOFFSETFROM:+0000
TZOFFSETTO:+0000
TZNAME:UTC
DTSTART:20230101T000000
END:STANDARD
END:VTIMEZONE
BEGIN:VEVENT
DTSTART;VALUE=DATE:20240901
DTEND;VALUE=DATE:20240909
DTSTAMP:20260421T210959
CREATED:20240831T083940Z
LAST-MODIFIED:20240831T083940Z
UID:1227-1725148800-1725839999@compraenmedina.es
SUMMARY:1-8 de septiembre - San Antolín\,  fiestas patronales en Medina del Campo
DESCRIPTION:[vc_row][vc_column]DESCARGAR PROGRAMA[/vc_column][/vc_row][vc_row][vc_column][vc_column_text css=””]Celebra la tradición y la cultura de Medina del Campo durante las fiestas de San Antolín 2024. Este evento reúne a la comunidad en una semana llena de actividades que reflejan el espíritu festivo y la devoción por el patrón de la ciudad.  \nDisfruta de encierros tradicionales\, verbenas\, y las emocionantes corridas de toros. No te pierdas la procesión de San Antolín\, donde los medinenses honran a su patrón con fervor y respeto.  \nCada rincón de la ciudad se llena de alegría y tradición\, ofreciendo a los visitantes una experiencia única en el corazón de Castilla y León. \n  \n  \n[/vc_column_text][/vc_column][/vc_row]
URL:https://compraenmedina.es/event/1-8-de-septiembre-san-antolin-fiestas-patronales-en-medina-del-campo/
ATTACH;FMTTYPE=image/jpeg:https://compraenmedina.es/wp-content/uploads/2024/08/san-antolin-24.jpg
END:VEVENT
BEGIN:VEVENT
DTSTART;VALUE=DATE:20240915
DTEND;VALUE=DATE:20240916
DTSTAMP:20260421T210959
CREATED:20240831T084308Z
LAST-MODIFIED:20240831T084308Z
UID:1232-1726358400-1726444799@compraenmedina.es
SUMMARY:15 de septiembre- Jura de Bandera
DESCRIPTION:[vc_row][vc_column][vc_column_text css=””]Medina del Campo se prepara para un día histórico con la Jura de Bandera para civiles. Este acto solemne\, que tendrá lugar en la Plaza Mayor\, es una oportunidad única para que los ciudadanos renueven su compromiso con la defensa de España.  \nCon la participación de alrededor de 300 personas\, y el respaldo del Regimiento de Artillería Lanzacohetes de Campaña número 63\, la jura de bandera es más que un evento ceremonial; es una manifestación de lealtad y patriotismo.  \nAdemás\, el día estará acompañado de exposiciones y un concierto que hará de este fin de semana una verdadera fiesta para todos los asistentes.[/vc_column_text][/vc_column][/vc_row]
URL:https://compraenmedina.es/event/15-de-septiembre-jura-de-bandera/
ATTACH;FMTTYPE=image/jpeg:https://compraenmedina.es/wp-content/uploads/2024/08/jura-de-bandera-civil-Medina-del-Campo-1.jpg
END:VEVENT
END:VCALENDAR