BEGIN:VCALENDAR
VERSION:2.0
PRODID:-//Compra en Medina - ECPv6.15.20//NONSGML v1.0//EN
CALSCALE:GREGORIAN
METHOD:PUBLISH
X-ORIGINAL-URL:https://compraenmedina.es
X-WR-CALDESC:Eventos para Compra en Medina
REFRESH-INTERVAL;VALUE=DURATION:PT1H
X-Robots-Tag:noindex
X-PUBLISHED-TTL:PT1H
BEGIN:VTIMEZONE
TZID:UTC
BEGIN:STANDARD
TZOFFSETFROM:+0000
TZOFFSETTO:+0000
TZNAME:UTC
DTSTART:20230101T000000
END:STANDARD
END:VTIMEZONE
BEGIN:VEVENT
DTSTART;VALUE=DATE:20240814
DTEND;VALUE=DATE:20240822
DTSTAMP:20260421T194821
CREATED:20240501T094342Z
LAST-MODIFIED:20240504T152328Z
UID:225-1723593600-1724284799@compraenmedina.es
SUMMARY:Semana renacentista
DESCRIPTION:Viaja en el tiempo y sumérgete en el esplendor del Renacimiento durante la Semana Renacentista. Disfruta de actividades culturales\, recreaciones históricas y espectáculos en las calles de Medina del Campo. ¡Una experiencia única! \nFeria Imperiales y Comuneros: \nUno de los puntos culminantes de la Semana Renacentista es la Feria Imperiales y Comuneros. \nLas calles y la Plaza Mayor de la Hispanidad se llenan de color y música\, recreando el ambiente de los antiguos mercados que enriquecieron esta tierra en tiempos pasados. \nCerca de 4.000 figurantes participan en las actividades\, dando vida a los personajes ilustres que recorrieron las calles y plazas de la Villa. \nEntre los protagonistas se encuentran San Vicente Ferrer\, el Infante Don Fernando (el de Antequera)\, Los Reyes Católicos\, Carlos V\, los Capitanes Comuneros\, San Juan de la Cruz y Teresa de Jesús2. \nProgramación diversa: \nAdemás de la Feria Imperiales y Comuneros\, la Semana Renacentista ofrece una amplia variedad de actividades\, como recreaciones históricas\, espectáculos\, talleres y animación en la calle. \nEl Castillo de la Mota y la Colegiata de San Antolín también son escenarios importantes para estas celebraciones.
URL:https://compraenmedina.es/event/semana-renacentista/
ATTACH;FMTTYPE=image/jpeg:https://compraenmedina.es/wp-content/uploads/2024/05/renacentista-1.jpg
END:VEVENT
BEGIN:VEVENT
DTSTART;VALUE=DATE:20240815
DTEND;VALUE=DATE:20240819
DTSTAMP:20260421T194821
CREATED:20240501T094457Z
LAST-MODIFIED:20240504T152446Z
UID:227-1723680000-1724025599@compraenmedina.es
SUMMARY:Feria “imperiales y comuneros”
DESCRIPTION:Revive la historia de la lucha por la libertad en la Feria “Imperiales y Comuneros”. Descubre la cultura y el legado de esta época en un ambiente festivo y lleno de tradición. \nMedina del Campo\, conocida como la Villa de las Ferias\, se convierte en un escenario donde el pasado cobra vida y los visitantes pueden sumergirse en la rica historia de la región. \nExperiencia histórica: \nLa Feria Renacentista “Imperiales y Comuneros” trasciende el tiempo y el espacio. \nLos asistentes pueden participar activamente en la recreación de momentos clave del siglo XVI. \nTalleres\, visitas teatralizadas\, atracciones infantiles\, exposiciones\, charlas\, arte urbano\, conciertos y más conforman un escenario espléndido para vecinos y visitantes3. \nEn resumen\, la Feria “Imperiales y Comuneros” es una oportunidad única para conocer y disfrutar de la historia renacentista.
URL:https://compraenmedina.es/event/feria-imperiales-y-comuneros/
ATTACH;FMTTYPE=image/jpeg:https://compraenmedina.es/wp-content/uploads/2024/05/imperiales-y-comuneros-1.jpg
END:VEVENT
END:VCALENDAR